BEGIN:VCALENDAR
VERSION:2.0
PRODID:-//wp-events-plugin.com//7.2.3.1//EN
BEGIN:VEVENT
UID:0-2@taierilakesgolf.co.nz
DTSTART;VALUE=DATE:20240524
DTEND;VALUE=DATE:20240525
DTSTAMP:20240430T051154Z
URL:https://taierilakesgolf.co.nz/events/mower-tournament/
SUMMARY:Mower Tournament
DESCRIPTION:
END:VEVENT
END:VCALENDAR